Workbook

Sheet Instructions
B2: =Setup!B2 -> Five Year Operating and Membership Plan
B3: Instructions:
B5: Setup Sheet
B7: -Enter information in Green cells only.
B8: -Enter the council Endowment Spending Policy information as indicated. If the council does not have a Spending Policy estimate the policy variables - spending percentage,
B9: number of years used to calculate annual amount and estimated Endowment earnings rate.
B11: Membership History and Planning
B13: -Enter 5 year Membership History in green cells only.
B14: -Enter current year Membership Plan additions by number in green cells.
B15: -Enter Council membeship plan growth by category in each of plan years.
B17: Council Program Fees
B18: - See Instructions in tab
B21: A. History Input & Output
... B60: -Identify percentage or dollar trends that are materially off.Adjust percentage or incremental growth parameters on the Growth Plan. Review Output and repeat as needed.

Sheet Color Guide
B3: TAB COLORS
D5: These tabs show Historical and Future Years
D7: This tab requires input for Future Years
B11: Cell Colors
B13: Input Req. | D13: These cells require input

Sheet Setup
A2: Setup Sheet | B2: Five Year Operating and Membership Plan
A3: Council Five Year Plan - Setup
A4: Current Year: | B4: 2022
A6: Council Name: | B6: Sample Council- #0325
A8: 201 Budget or Forecast?: | B8: Budget
A10: Endowment Spending Policy (Annual %): | B10: 0.045
A12: Number of Years for Spending Policy (1-5): | B12: 3
A14: Expected Endowment Rate of Return (Annual %): | B14: 0.055
A17: Instructions:
A18: 1. Enter Council Name, Current Year, Endowment Spending %, Endowment Years for Spending Calculation and Expected
A19: Investment Return for Total Endowment in green squares on Setup Sheet.
A20: 2. Enter 5 year membership history in green squares on Membership History and Planning Sheet.
A21: 3. Enter 5 year operating financial history in green squares on Sheet A. History Input. Input is taken directly from Comparative Statement of Operations
A22: 4. Do not enter anything on Sheet B. Historical Growth. It will display the annual % growth and CAGRs for Actual(4y) Budget(5y).
A23: 5. Enter Endowment Fund beginning Net Assets (Year 1 only), Inc (Dec), Transfers, Adjustment from Statement of Changes in Net Assets
A24: in green cells (only!) on Sheet C. Endowment Investments. All other values will be computed or referenced.
A25: 6. Spending Policy %, Years and Total Return as entered on Setup will appear in Endowment Forecast section of
A26: Sheet C. Endowment Investments.
A27: 7. Review Sheet A. History Input and Sheet B. Historical Growth. Note trends and changes for revenue and expense items.
A28: 8. Enter an annual percentage growth factor and/or incremental dollar value for every revenue and expense item on Sheet D. Growth Plan
... A31: 10. Review Sheet E. Output. Make adjustments to Plan by changing growth assumptions on Sheet D. Growth Plan.

Sheet Membership History and Planning
E1: =Setup!B2 -> Five Year Operating and Membership Plan
B2: Membership History and Planning | O2: Membership History and Planning
C4: =Setup!B6 -> Sample Council- #0325 | O4: Example Council Membership Planning
C6: =Setup!$B4-5 -> 2017 | D6: =Setup!$B4-4 -> 2018 | E6: =Setup!$B4-3 -> 2019 | F6: =Setup!$B4-2 -> 2020 | G6: =Setup!$B4-1 -> 2021 | K6: =Setup!B4 -> 2022 | O6: =$K6+1 -> 2023 | S6: =$K6+2 -> 2024 | W6: =$K6+3 -> 2025 | AA6: =$K6+4 -> 2026 | AE6: =$K6+5 -> 2027
C7: Actual | D7: Actual | E7: Actual | F7: Actual | G7: Actual | K7: Current Year | Q7: Plan Year 1 | U7: Plan Year 2 | Y7: Plan Year 3 | AC7: Plan Year 4 | AG7: Plan Year 5
A8: Membership Participation | I8: Incremental | K8: Planned | M8: Membership Participation | O8: Incremental | Q8: Planned | S8: Incremental | U8: Planned | W8: Incremental | Y8: Planned | AA8: Incremental | AC8: Planned | AE8: Incremental | AG8: Planned
J9: % growth | P9: % growth | T9: % growth | X9: % growth | AB9: % growth | AF9: % growth
B10: Cub Scouts (including Tiger and Webelos) | C10: 2435 | D10: 2380 | E10: 2401 | F10: 2116 | G10: 1300 | I10: 20 | J10: =IF(I10>0,K10/F10-1,0) -> -0.37618147 | K10: =IF(I10>0,I10+G10,0) -> 1320 | N10: Cub Scouts (including Tiger and Webelos) | O10: 12 | P10: =IF(O10>0,Q10/K10-1,0) -> 0.0090909091 | Q10: =IF(O10>0,O10+K10,0) -> 1332 | S10: 12 | T10: =IF(S10>0,U10/Q10-1,0) -> 0.009009009 | U10: =IF(S10>0,S10+Q10,0) -> 1344 | W10: 12 | X10: =IF(W10>0,Y10/U10-1,0) -> 0.0089285714 | Y10: =IF(W10>0,W10+U10,0) -> 1356 | AA10: 12 | AB10: =IF(AA10>0,AC10/Y10-1,0) -> 0.0088495575 | AC10: =IF(AA10>0,AA10+Y10,0) -> 1368 | AE10: 12 | AF10: =IF(AE10>0,AG10/AC10-1,0) -> 0.0087719298 | AG10: =IF(AE10>0,AE10+AC10,0) -> 1380
B12: Scouts (including Varsity Scouts) | C12: 2422 | D12: 2413 | E12: 2377 | F12: 2245 | G12: 1400 | I12: 18 | J12: =IF(I12>0,K12/F12-1,0) -> -0.36837416 | K12: =IF(I12>0,I12+G12,0) -> 1418 | N12: Boy Scouts (including Varsity Scouts) | O12: 12 | P12: =IF(O12>0,Q12/K12-1,0) -> 0.0084626234 | Q12: =IF(O12>0,O12+K12,K12) -> 1430 | S12: 12 | T12: =IF(S12>0,U12/Q12-1,0) -> 0.0083916084 | U12: =IF(S12>0,S12+Q12,Q12) -> 1442 | W12: 12 | X12: =IF(W12>0,Y12/U12-1,0) -> 0.0083217753 | Y12: =IF(W12>0,W12+U12,U12) -> 1454 | AA12: 12 | AB12: =IF(AA12>0,AC12/Y12-1,0) -> 0.0082530949 | AC12: =IF(AA12>0,AA12+Y12,Y12) -> 1466 | AE12: 12 | AF12: =IF(AE12>0,AG12/AC12-1,0) -> 0.0081855389 | AG12: =IF(AE12>0,AE12+AC12,AC12) -> 1478
B14: Venturers | C14: 1159 | D14: 982 | E14: 1014 | F14: 563 | G14: 300 | I14: 24 | J14: =IF(I14>0,K14/F14-1,0) -> -0.42451155 | K14: =IF(I14>0,I14+G14,0) -> 324 | N14: Venturers | O14: 9 | P14: =IF(O14>0,Q14/K14-1,0) -> 0.027777778 | Q14: =IF(O14>0,O14+K14,K14) -> 333 | S14: 9 | T14: =IF(S14>0,U14/Q14-1,0) -> 0.027027027 | U14: =IF(S14>0,S14+Q14,Q14) -> 342 | W14: 9 | X14: =IF(W14>0,Y14/U14-1,0) -> 0.026315789 | Y14: =IF(W14>0,W14+U14,U14) -> 351 | AA14: 9 | AB14: =IF(AA14>0,AC14/Y14-1,0) -> 0.025641026 | AC14: =IF(AA14>0,AA14+Y14,Y14) -> 360 | AE14: 9 | AF14: =IF(AE14>0,AG14/AC14-1,0) -> 0.025 | AG14: =IF(AE14>0,AE14+AC14,AC14) -> 369
B15: Total Traditional Members | C15: =C10+C12+C14 -> 6016 | D15: =D10+D12+D14 -> 5775 | E15: =E10+E12+E14 -> 5792 | F15: =F10+F12+F14 -> 4924 | G15: =G10+G12+G14 -> 3000 | I15: =I10+I12+I14 -> 62 | J15: =IF(I15>0,K15/G15-1,0) -> 0.020666667 | K15: =K10+K12+K14 -> 3062 | N15: Total Traditional Members | O15: =O10+O12+O14 -> 33 | P15: =IF(O15>0,Q15/K15-1,0) -> 0.01077727 | Q15: =Q10+Q12+Q14 -> 3095 | S15: =S10+S12+S14 -> 33 | T15: =IF(S15>0,U15/Q15-1,0) -> 0.010662359 | U15: =U10+U12+U14 -> 3128 | W15: =W10+W12+W14 -> 33 | X15: =IF(W15>0,Y15/U15-1,0) -> 0.010549872 | Y15: =Y10+Y12+Y14 -> 3161 | AA15: =AA10+AA12+AA14 -> 33 | AB15: =IF(AA15>0,AC15/Y15-1,0) -> 0.010439734 | AC15: =AC10+AC12+AC14 -> 3194 | AE15: =AE10+AE12+AE14 -> 33 | AF15: =IF(AE15>0,AG15/AC15-1,0) -> 0.010331872 | AG15: =AG10+AG12+AG14 -> 3227
B16: Explorers | C16: 517 | D16: 613 | E16: 700 | F16: 527 | G16: 275 | I16: 1 | J16: =IF(I16>0,K16/F16-1,0) -> -0.47628083 | K16: =IF(I16>0,I16+G16,0) -> 276 | N16: Explorers | O16: 1 | P16: =IF(O16>0,Q16/K16-1,0) -> 0.0036231884 | Q16: =IF(O16>0,O16+K16,K16) -> 277 | S16: 1 | T16: =IF(S16>0,U16/Q16-1,0) -> 0.0036101083 | U16: =IF(S16>0,S16+Q16,Q16) -> 278 | W16: 1 | X16: =IF(W16>0,Y16/U16-1,0) -> 0.0035971223 | Y16: =IF(W16>0,W16+U16,U16) -> 279 | AA16: 1 | AB16: =IF(AA16>0,AC16/Y16-1,0) -> 0.0035842294 | AC16: =IF(AA16>0,AA16+Y16,Y16) -> 280 | AE16: 1 | AF16: =IF(AE16>0,AG16/AC16-1,0) -> 0.0035714286 | AG16: =IF(AE16>0,AE16+AC16,AC16) -> 281
B17: Total Youth | C17: =C16+C15 -> 6533 | D17: =D16+D15 -> 6388 | E17: =E16+E15 -> 6492 | F17: =F16+F15 -> 5451 | G17: =G16+G15 -> 3275 | I17: =I15+I16 -> 63 | J17: =IF(I17>0,K17/G17-1,0) -> 0.019236641 | K17: =G17+I17 -> 3338 | N17: Total Youth | O17: =O15+O16 -> 34 | P17: =IF(O17>0,Q17/K17-1,0) -> 0.01018574 | Q17: =Q16+Q15 -> 3372 | S17: =S15+S16 -> 34 | T17: =IF(S17>0,U17/Q17-1,0) -> 0.010083037 | U17: =U16+U15 -> 3406 | W17: =W15+W16 -> 34 | X17: =IF(W17>0,Y17/U17-1,0) -> 0.009982384 | Y17: =Y16+Y15 -> 3440 | AA17: =AA15+AA16 -> 34 | AB17: =IF(AA17>0,AC17/Y17-1,0) -> 0.0098837209 | AC17: =AC16+AC15 -> 3474 | AE17: =AE15+AE16 -> 34 | AF17: =IF(AE17>0,AG17/AC17-1,0) -> 0.0097869891 | AG17: =AG16+AG15 -> 3508
B19: ADULTS | C19: 2050 | D19: 2000 | E19: 1995 | F19: 1881 | G19: 1100 | I19: 1 | J19: =IF(I19>0,K19/F19-1,0) -> -0.41467305 | K19: =IF(I19>0,I19+G19,0) -> 1101 | O19: 1 | P19: =IF(O19>0,Q19/K19-1,0) -> 0.00090826521 | Q19: =IF(O19>0,O19+K19,K19) -> 1102 | S19: 1 | T19: =IF(S19>0,U19/Q19-1,0) -> 0.00090744102 | U19: =IF(S19>0,S19+Q19,Q19) -> 1103 | W19: 1 | X19: =IF(W19>0,Y19/U19-1,0) -> 0.00090661831 | Y19: =IF(W19>0,W19+U19,U19) -> 1104 | AA19: 1 | AB19: =IF(AA19>0,AC19/Y19-1,0) -> 0.0009057971 | AC19: =IF(AA19>0,AA19+Y19,Y19) -> 1105 | AE19: 1 | AF19: =IF(AE19>0,AG19/AC19-1,0) -> 0.00090497738 | AG19: =IF(AE19>0,AE19+AC19,AC19) -> 1106
A21: $ Per Total Members | M21: $ Per Total Members
B23: FOS/Member | C23: ='A. History Input & Output'!E$8/'Membership History and Planning'!C$15 -> 50.604222 | D23: ='A. History Input & Output'!G$8/'Membership History and Planning'!D$15 -> 42.790303 | E23: ='A. History Input & Output'!I$8/'Membership History and Planning'!E$15 -> 44.460117 | F23: ='A. History Input & Output'!K$8/'Membership History and Planning'!F$15 -> 43.878351 | G23: ='A. History Input & Output'!M$8/'Membership History and Planning'!G$15 -> 89.057667 | K23: ='A. History Input & Output'!O$8/'Membership History and Planning'!K$15 -> 32.658393 | N23: FOS/Member | Q23: ='E. Output'!C$8/'Membership History and Planning'!Q$15 -> 33.279483 | U23: ='E. Output'!E$8/'Membership History and Planning'!U$15 -> 33.91624 | Y23: ='E. Output'!G$8/'Membership History and Planning'!Y$15 -> 34.569029 | AC23: ='E. Output'!I$8/'Membership History and Planning'!AC$15 -> 35.238222 | AG23: ='E. Output'!K$8/'Membership History and Planning'!AG$15 -> 35.924204
B24: Direct Support/Member | C24: ='A. History Input & Output'!E$14/'Membership History and Planning'!C$15 -> 91.750332 | D24: ='A. History Input & Output'!G$14/'Membership History and Planning'!D$15 -> 89.661645 | E24: ='A. History Input & Output'!I$14/'Membership History and Planning'!E$15 -> 96.583564 | F24: ='A. History Input & Output'!K$14/'Membership History and Planning'!F$15 -> 113.70552 | G24: ='A. History Input & Output'!M$14/'Membership History and Planning'!G$15 -> 152.50667 | K24: ='A. History Input & Output'!O$14/'Membership History and Planning'!K$15 -> 132.23383 | N24: Direct Support/Member | Q24: ='E. Output'!C$14/'Membership History and Planning'!Q$15 -> 132.23813 | U24: ='E. Output'!E$14/'Membership History and Planning'!U$15 -> 132.28431 | Y24: ='E. Output'!G$14/'Membership History and Planning'!Y$15 -> 132.37231 | AC24: ='E. Output'!I$14/'Membership History and Planning'!AC$15 -> 132.50211 | AG24: ='E. Output'!K$14/'Membership History and Planning'!AG$15 -> 132.67372
B25: Total Support and Revenue/Member | C25: ='A. History Input & Output'!E$30/'Membership History and Planning'!C$15 -> 199.4498 | D25: ='A. History Input & Output'!G$30/'Membership History and Planning'!D$15 -> 219.75221 | E25: ='A. History Input & Output'!I$30/'Membership History and Planning'!E$15 -> 224.12086 | F25: ='A. History Input & Output'!K$30/'Membership History and Planning'!F$15 -> 260.52092 | G25: ='A. History Input & Output'!M$30/'Membership History and Planning'!G$15 -> 396.19133 | K25: ='A. History Input & Output'!O$30/'Membership History and Planning'!K$15 -> 324.0921 | N25: Total Support and Revenue/Member | Q25: ='E. Output'!C$30/'Membership History and Planning'!Q$15 -> 444.89331 | U25: ='E. Output'!E$30/'Membership History and Planning'!U$15 -> 438.45293 | Y25: ='E. Output'!G$30/'Membership History and Planning'!Y$15 -> 439.13496 | AC25: ='E. Output'!I$30/'Membership History and Planning'!AC$15 -> 438.25076 | AG25: ='E. Output'!K$30/'Membership History and Planning'!AG$15 -> 437.90895
B27: Employee Compensation/Member | C27: ='A. History Input & Output'!E$34/'Membership History and Planning'!C$15 -> 108.74119 | D27: ='A. History Input & Output'!G$34/'Membership History and Planning'!D$15 -> 115.44658 | E27: ='A. History Input & Output'!I$34/'Membership History and Planning'!E$15 -> 123.82804 | F27: ='A. History Input & Output'!K$34/'Membership History and Planning'!F$15 -> 133.17811 | G27: ='A. History Input & Output'!M$34/'Membership History and Planning'!G$15 -> 187.973 | K27: ='A. History Input & Output'!O$34/'Membership History and Planning'!K$15 -> 200.62247 | N27: Employee Compensation/Member | Q27: ='E. Output'!C$34/'Membership History and Planning'!Q$15 -> 204.43786 | U27: ='E. Output'!E$34/'Membership History and Planning'!U$15 -> 208.3495 | Y27: ='E. Output'!G$34/'Membership History and Planning'!Y$15 -> 212.35962 | AC27: ='E. Output'!I$34/'Membership History and Planning'!AC$15 -> 216.47051 | AG27: ='E. Output'!K$34/'Membership History and Planning'!AG$15 -> 220.68454
B28: Total Expenses/Member | C28: ='A. History Input & Output'!E$38/'Membership History and Planning'!C$15 -> 195.05818 | D28: ='A. History Input & Output'!G$38/'Membership History and Planning'!D$15 -> 218.08121 | E28: ='A. History Input & Output'!I$38/'Membership History and Planning'!E$15 -> 223.82838 | F28: ='A. History Input & Output'!K$38/'Membership History and Planning'!F$15 -> 254.27315 | G28: ='A. History Input & Output'!M$38/'Membership History and Planning'!G$15 -> 364.684 | K28: ='A. History Input & Output'!O$38/'Membership History and Planning'!K$15 -> 318.82822 | N28: Total Expenses/Member | Q28: ='E. Output'!C$38/'Membership History and Planning'!Q$15 -> 324.30689 | U28: ='E. Output'!E$38/'Membership History and Planning'!U$15 -> 329.91904 | Y28: ='E. Output'!G$38/'Membership History and Planning'!Y$15 -> 335.66751 | AC28: ='E. Output'!I$38/'Membership History and Planning'!AC$15 -> 341.55525 | AG28: ='E. Output'!K$38/'Membership History and Planning'!AG$15 -> 347.58528
A30: $ Per Total Youth | M30: $ Per Total Youth
B32: FOS/Total Youth | C32: ='A. History Input & Output'!E$8/'Membership History and Planning'!C$17 -> 46.599571 | D32: ='A. History Input & Output'!G$8/'Membership History and Planning'!D$17 -> 38.684095 | E32: ='A. History Input & Output'!I$8/'Membership History and Planning'!E$17 -> 39.666205 | F32: ='A. History Input & Output'!K$8/'Membership History and Planning'!F$17 -> 39.636214 | G32: ='A. History Input & Output'!M$8/'Membership History and Planning'!G$17 -> 81.579542 | K32: ='A. History Input & Output'!O$8/'Membership History and Planning'!K$17 -> 29.958059 | N32: FOS/Total Youth | Q32: ='E. Output'!C$8/'Membership History and Planning'!Q$17 -> 30.54567 | U32: ='E. Output'!E$8/'Membership History and Planning'!U$17 -> 31.147974 | Y32: ='E. Output'!G$8/'Membership History and Planning'!Y$17 -> 31.76532 | AC32: ='E. Output'!I$8/'Membership History and Planning'!AC$17 -> 32.398066 | AG32: ='E. Output'!K$8/'Membership History and Planning'!AG$17 -> 33.046581
B33: Direct Support/Total Youth | C33: ='A. History Input & Output'!E$14/'Membership History and Planning'!C$17 -> 84.489515 | D33: ='A. History Input & Output'!G$14/'Membership History and Planning'!D$17 -> 81.057608 | E33: ='A. History Input & Output'!I$14/'Membership History and Planning'!E$17 -> 86.169439 | F33: ='A. History Input & Output'!K$14/'Membership History and Planning'!F$17 -> 102.71253 | G33: ='A. History Input & Output'!M$14/'Membership History and Planning'!G$17 -> 139.70076 | K33: ='A. History Input & Output'!O$14/'Membership History and Planning'!K$17 -> 121.30018 | N33: Direct Support/Total Youth | Q33: ='E. Output'!C$14/'Membership History and Planning'!Q$17 -> 121.37515 | U33: ='E. Output'!E$14/'Membership History and Planning'!U$17 -> 121.48717 | Y33: ='E. Output'!G$14/'Membership History and Planning'!Y$17 -> 121.6363 | AC33: ='E. Output'!I$14/'Membership History and Planning'!AC$17 -> 121.82261 | AG33: ='E. Output'!K$14/'Membership History and Planning'!AG$17 -> 122.04621
B34: Total Support and Revenue/Youth | C34: ='A. History Input & Output'!E$30/'Membership History and Planning'!C$17 -> 183.666 | D34: ='A. History Input & Output'!G$30/'Membership History and Planning'!D$17 -> 198.66453 | E34: ='A. History Input & Output'!I$30/'Membership History and Planning'!E$17 -> 199.95502 | F34: ='A. History Input & Output'!K$30/'Membership History and Planning'!F$17 -> 235.33388 | G34: ='A. History Input & Output'!M$30/'Membership History and Planning'!G$17 -> 362.92336 | K34: ='A. History Input & Output'!O$30/'Membership History and Planning'!K$17 -> 297.29479 | N34: Total Support and Revenue/Youth | Q34: ='E. Output'!C$30/'Membership History and Planning'!Q$17 -> 408.34662 | U34: ='E. Output'!E$30/'Membership History and Planning'!U$17 -> 402.66611 | Y34: ='E. Output'!G$30/'Membership History and Planning'!Y$17 -> 403.51908 | AC34: ='E. Output'!I$30/'Membership History and Planning'!AC$17 -> 402.92831 | AG34: ='E. Output'!K$30/'Membership History and Planning'!AG$17 -> 402.8313
B36: Employee Compensation/Total Youth | C36: ='A. History Input & Output'!E$34/'Membership History and Planning'!C$17 -> 100.13577 | D36: ='A. History Input & Output'!G$34/'Membership History and Planning'!D$17 -> 104.36819 | E36: ='A. History Input & Output'!I$34/'Membership History and Planning'!E$17 -> 110.47628 | F36: ='A. History Input & Output'!K$34/'Membership History and Planning'!F$17 -> 120.30251 | G36: ='A. History Input & Output'!M$34/'Membership History and Planning'!G$17 -> 172.18901 | K36: ='A. History Input & Output'!O$34/'Membership History and Planning'!K$17 -> 184.03415 | N36: Employee Compensation/Total Youth | Q36: ='E. Output'!C$34/'Membership History and Planning'!Q$17 -> 187.64388 | U36: ='E. Output'!E$34/'Membership History and Planning'!U$17 -> 191.34387 | Y36: ='E. Output'!G$34/'Membership History and Planning'!Y$17 -> 195.13627 | AC36: ='E. Output'!I$34/'Membership History and Planning'!AC$17 -> 199.02326 | AG36: ='E. Output'!K$34/'Membership History and Planning'!AG$17 -> 203.00713
B37: Total Expenses/Total Youth | C37: ='A. History Input & Output'!E$38/'Membership History and Planning'!C$17 -> 179.62192 | D37: ='A. History Input & Output'!G$38/'Membership History and Planning'!D$17 -> 197.15388 | E37: ='A. History Input & Output'!I$38/'Membership History and Planning'!E$17 -> 199.69409 | F37: ='A. History Input & Output'!K$38/'Membership History and Planning'!F$17 -> 229.69015 | G37: ='A. History Input & Output'!M$38/'Membership History and Planning'!G$17 -> 334.06168 | K37: ='A. History Input & Output'!O$38/'Membership History and Planning'!K$17 -> 292.46615 | N37: Total Expenses/Total Youth | Q37: ='E. Output'!C$38/'Membership History and Planning'!Q$17 -> 297.66602 | U37: ='E. Output'!E$38/'Membership History and Planning'!U$17 -> 302.99083 | Y37: ='E. Output'!G$38/'Membership History and Planning'!Y$17 -> 308.44332 | AC37: ='E. Output'!I$38/'Membership History and Planning'!AC$17 -> 314.02633 | AG37: ='E. Output'!K$38/'Membership History and Planning'!AG$17 -> 319.74279

Sheet Council Program Fees
A1: Council Fees by Membership Type
C2: =[1]Setup!B4 -> 2021 | D2: Maximum | E2: Percent of | F2: Est. | G2: Total
A3: Membership Participation | C3: Actual | D3: Fee/Person | E3: Members Paid | F3: Paying # | G3: Fee
C4: Membership
C5: Col. 1 | D5: Col. 2 | E5: Col. 3 | F5: Col. 4 | G5: Col. 5
B6: Cub Scouts (including Tiger and Webelos) | C6: ='Membership History and Planning'!K10 -> 1320 | D6: 75 | E6: 0.5 | F6: =E6*C6 -> 660 | G6: =F6*D6 -> 49500
B8: Scouts (including Varsity Scouts) | C8: ='Membership History and Planning'!K12 -> 1418 | D8: 75 | E8: 0.5 | F8: =E8*C8 -> 709 | G8: =F8*D8 -> 53175
B10: Venturers | C10: ='Membership History and Planning'!K14 -> 324 | D10: 75 | E10: 0.5 | F10: =E10*C10 -> 162 | G10: =F10*D10 -> 12150
B12: Explorers | C12: ='Membership History and Planning'!K16 -> 276 | D12: 45 | E12: 0.9 | F12: =E12*C12 -> 248.4 | G12: =F12*D12 -> 11178
B14: Adults | C14: ='Membership History and Planning'!K19 -> 1101 | D14: =D12 -> 45 | E14: 0.9 | F14: =E14*C14 -> 990.9 | G14: =F14*D14 -> 44590.5
B16: Total Fee | G16: =SUM(G6:G14) -> 170593.5
B20: INSTRUCTIONS | C20: Col. 1 | D20: Membership #'s taken from "Membership" tab
C21: Col. 2 | D21: Enter amount of requested Program Fee for Youth and Adults.
C22: Col. 3 | D22: Enter estimated percent of members who will pay
C23: Col. 4 | D23: Est. number of members who will pay
C24: Col. 5 | D24: Projected Program Fee collected

Sheet A. History Input & Output
A2: A. History Input | G2: =Setup!B2 -> Five Year Operating and Membership Plan
A3: =Setup!B6&" Council Operating Fund History" -> Sample Council- #0325 Council Operating Fund History | S3: =Setup!B6&" Five Year Plan" -> Sample Council- #0325 Five Year Plan
C4: =Setup!$B4-6 -> 2016 | E4: =Setup!$B4-5 -> 2017 | G4: =Setup!$B4-4 -> 2018 | I4: =Setup!$B4-3 -> 2019 | K4: =Setup!$B4-2 -> 2020 | M4: =Setup!$B4-1 -> 2021 | O4: =Setup!$B4 -> 2022 | S4: =Setup!$B4+1 -> 2023 | U4: =Setup!$B4+2 -> 2024 | W4: =Setup!$B4+3 -> 2025 | Y4: =Setup!$B4+4 -> 2026 | AA4: =Setup!$B4+5 -> 2027 | AC4: 2022 | AE4: 2023 | AG4: 2024 | AI4: 2025 | AK4: 2026 | AM4: 2027
C5: ACTUAL | D5: % | E5: ACTUAL | F5: % | G5: ACTUAL | H5: % | I5: ACTUAL | J5: % | K5: ACTUAL | L5: % | M5: ACTUAL | N5: % | O5: BUDGET | P5: % | S5: PLAN | T5: % | U5: PLAN | V5: % | W5: PLAN | X5: % | Y5: PLAN | Z5: % | AA5: PLAN
A6: Operating Income & Transfers | Q6: Operating Income & Transfers
B8: Net Friends of Scouting | C8: 300900 | D8: =C8/C$30 -> 0.24540888 | E8: =13146+291289 -> 304435 | F8: =E8/E$30 -> 0.25371909 | G8: =245314+1800 -> 247114 | H8: =G8/G$30 -> 0.1947207 | I8: 257513 | J8: =I8/I$30 -> 0.19837564 | K8: =13104+202953 -> 216057 | L8: =K8/K$30 -> 0.16842544 | M8: =3795+263378 -> 267173 | N8: =M8/M$30 -> 0.22478449 | O8: 100000 | P8: =O8/O$30 -> 0.10076887 | R8: Net Friends of Scouting | S8: ='E. Output'!C8 -> 103000 | T8: =S8/S$30 -> 0.074803289 | U8: ='E. Output'!E8 -> 106090 | V8: =U8/U$30 -> 0.077354348 | W8: ='E. Output'!G8 -> 109272.7 | X8: =W8/W$30 -> 0.078720739 | Y8: ='E. Output'!I8 -> 112550.88 | Z8: =Y8/Y$30 -> 0.080406527 | AA8: ='E. Output'!K8 -> 115927.41 | AB8: =AA8/AA$30 -> 0.082035784 | AC8: 0 | AD8: =AC8/AC$30 -> #DIV/0! | AE8: 0 | AF8: =AE8/AE$30 -> #DIV/0! | AG8: 0 | AH8: =AG8/AG$30 -> #DIV/0! | AI8: 0 | AJ8: =AI8/AI$30 -> #DIV/0! | AK8: 0 | AL8: =AK8/AK$30 -> #DIV/0! | AM8: 0 | AN8: =AM8/AM$30 -> #DIV/0!
B9: Project Sales | C9: 200 | D9: =C9/C$30 -> 0.00016311657 | E9: 0 | F9: =E9/E$30 -> 0 | G9: 3993 | H9: =G9/G$30 -> 0.003146401 | I9: 500 | J9: =I9/I$30 -> 0.00038517596 | K9: 0 | L9: =K9/K$30 -> 0 | M9: 0 | N9: =M9/M$30 -> 0 | O9: 0 | P9: =O9/O$30 -> 0 | R9: Project Sales | S9: ='E. Output'!C9 -> 0 | T9: =S9/S$30 -> 0 | U9: ='E. Output'!E9 -> 0 | V9: =U9/U$30 -> 0 | W9: ='E. Output'!G9 -> 0 | X9: =W9/W$30 -> 0 | Y9: ='E. Output'!I9 -> 0 | Z9: =Y9/Y$30 -> 0 | AA9: ='E. Output'!K9 -> 0 | AB9: =AA9/AA$30 -> 0 | AC9: 0 | AD9: =AC9/AC$30 -> #DIV/0! | AE9: 0 | AF9: =AE9/AE$30 -> #DIV/0! | AG9: 0 | AH9: =AG9/AG$30 -> #DIV/0! | AI9: 0 | AJ9: =AI9/AI$30 -> #DIV/0! | AK9: 0 | AL9: =AK9/AK$30 -> #DIV/0! | AM9: 0 | AN9: =AM9/AM$30 -> #DIV/0!
B10: Net Special Fundraising Events | C10: 140225 | D10: =C10/C$30 -> 0.11436511 | E10: 104316 | F10: =E10/E$30 -> 0.086937969 | G10: =122126+2590 -> 124716 | H10: =G10/G$30 -> 0.098273616 | I10: 107607 | J10: =I10/I$30 -> 0.08289526 | K10: 78513 | L10: =K10/K$30 -> 0.061204158 | M10: 57266 | N10: =M10/M$30 -> 0.048180425 | O10: 45900 | P10: =O10/O$30 -> 0.04625291 | R10: Net Special Fundraising Events | S10: ='E. Output'!C10 -> 47277 | T10: =S10/S$30 -> 0.03433471 | U10: ='E. Output'!E10 -> 48695.31 | V10: =U10/U$30 -> 0.035505646 | W10: ='E. Output'!G10 -> 50156.169 | X10: =W10/W$30 -> 0.036132819 | Y10: ='E. Output'!I10 -> 51660.854 | Z10: =Y10/Y$30 -> 0.036906596 | AA10: ='E. Output'!K10 -> 53210.68 | AB10: =AA10/AA$30 -> 0.037654425 | AC10: 0 | AD10: =AC10/AC$30 -> #DIV/0! | AE10: 0 | AF10: =AE10/AE$30 -> #DIV/0! | AG10: 0 | AH10: =AG10/AG$30 -> #DIV/0! | AI10: 0 | AJ10: =AI10/AI$30 -> #DIV/0! | AK10: 0 | AL10: =AK10/AK$30 -> #DIV/0! | AM10: 0 | AN10: =AM10/AM$30 -> #DIV/0!
B11: Legacies & Bequests | C11: 174 | D11: =C11/C$30 -> 0.00014191142 | E11: 50337 | F11: =E11/E$30 -> 0.041951346 | G11: 1919 | H11: =G11/G$30 -> 0.0015121321 | I11: 38823 | J11: =I11/I$30 -> 0.029907373 | K11: 110000 | L11: =K11/K$30 -> 0.085749588 | M11: 0 | N11: =M11/M$30 -> 0 | O11: 0 | P11: =O11/O$30 -> 0 | R11: Legacies & Bequests | S11: ='E. Output'!C11 -> 0 | T11: =S11/S$30 -> 0 | U11: ='E. Output'!E11 -> 0 | V11: =U11/U$30 -> 0 | W11: ='E. Output'!G11 -> 0 | X11: =W11/W$30 -> 0 | Y11: ='E. Output'!I11 -> 0 | Z11: =Y11/Y$30 -> 0 | AA11: ='E. Output'!K11 -> 0 | AB11: =AA11/AA$30 -> 0 | AC11: 0 | AD11: =AC11/AC$30 -> #DIV/0! | AE11: 0 | AF11: =AE11/AE$30 -> #DIV/0! | AG11: 0 | AH11: =AG11/AG$30 -> #DIV/0! | AI11: 0 | AJ11: =AI11/AI$30 -> #DIV/0! | AK11: 0 | AL11: =AK11/AK$30 -> #DIV/0! | AM11: 0 | AN11: =AM11/AM$30 -> #DIV/0!
B12: Foundations & Trusts | C12: 87925 | D12: =C12/C$30 -> 0.071710122 | E12: 91632 | F12: =E12/E$30 -> 0.076367 | G12: 138718 | H12: =G12/G$30 -> 0.1093069 | I12: 127316 | J12: =I12/I$30 -> 0.098078126 | K12: 147854 | L12: =K12/K$30 -> 0.11525836 | M12: 132381 | N12: =M12/M$30 -> 0.111378 | O12: 183000 | P12: =O12/O$30 -> 0.18440703 | R12: Foundations & Trusts | S12: ='E. Output'!C12 -> 183000 | T12: =S12/S$30 -> 0.13290293 | U12: ='E. Output'!E12 -> 183000 | V12: =U12/U$30 -> 0.13343242 | W12: ='E. Output'!G12 -> 183000 | X12: =W12/W$30 -> 0.13183435 | Y12: ='E. Output'!I12 -> 183000 | Z12: =Y12/Y$30 -> 0.13073549 | AA12: ='E. Output'!K12 -> 183000 | AB12: =AA12/AA$30 -> 0.12949956 | AC12: 0 | AD12: =AC12/AC$30 -> #DIV/0! | AE12: 0 | AF12: =AE12/AE$30 -> #DIV/0! | AG12: 0 | AH12: =AG12/AG$30 -> #DIV/0! | AI12: 0 | AJ12: =AI12/AI$30 -> #DIV/0! | AK12: 0 | AL12: =AK12/AK$30 -> #DIV/0! | AM12: 0 | AN12: =AM12/AM$30 -> #DIV/0!
B13: Other Direct Support | C13: 0 | D13: =C13/C$30 -> 0 | E13: 1250 | F13: =E13/E$30 -> 0.0010417622 | G13: 1336 | H13: =G13/G$30 -> 0.0010527402 | I13: 27653 | J13: =I13/I$30 -> 0.021302542 | K13: =7460+2 -> 7462 | L13: =K13/K$30 -> 0.0058169402 | M13: 700 | N13: =M13/M$30 -> 0.00058894103 | O13: 76000 | P13: =O13/O$30 -> 0.076584339 | R13: Other Direct Support | S13: ='E. Output'!C13 -> 76000 | T13: =S13/S$30 -> 0.05519466 | U13: ='E. Output'!E13 -> 76000 | V13: =U13/U$30 -> 0.055414558 | W13: ='E. Output'!G13 -> 76000 | X13: =W13/W$30 -> 0.054750877 | Y13: ='E. Output'!I13 -> 76000 | Z13: =Y13/Y$30 -> 0.05429452 | AA13: ='E. Output'!K13 -> 76000 | AB13: =AA13/AA$30 -> 0.053781239 | AC13: 0 | AD13: =AC13/AC$30 -> #DIV/0! | AE13: 0 | AF13: =AE13/AE$30 -> #DIV/0! | AG13: 0 | AH13: =AG13/AG$30 -> #DIV/0! | AI13: 0 | AJ13: =AI13/AI$30 -> #DIV/0! | AK13: 0 | AL13: =AK13/AK$30 -> #DIV/0! | AM13: 0 | AN13: =AM13/AM$30 -> #DIV/0!
B14: Total Direct Support | C14: =SUM(C8:C13) -> 529424 | D14: =C14/C$30 -> 0.43178914 | E14: =SUM(E8:E13) -> 551970 | F14: =E14/E$30 -> 0.46001717 | G14: =SUM(G8:G13) -> 517796 | H14: =G14/G$30 -> 0.40801249 | I14: =SUM(I8:I13) -> 559412 | J14: =I14/I$30 -> 0.43094411 | K14: =SUM(K8:K13) -> 559886 | L14: =K14/K$30 -> 0.43645449 | M14: =SUM(M8:M13) -> 457520 | N14: =M14/M$30 -> 0.38493186 | O14: =SUM(O8:O13) -> 404900 | P14: =O14/O$30 -> 0.40801314 | R14: Total Direct Support | S14: =SUM(S8:S13) -> 409277 | T14: =S14/S$30 -> 0.29723559 | U14: =SUM(U8:U13) -> 413785.31 | V14: =U14/U$30 -> 0.30170697 | W14: =SUM(W8:W13) -> 418428.87 | X14: =W14/W$30 -> 0.30143878 | Y14: =SUM(Y8:Y13) -> 423211.74 | Z14: =Y14/Y$30 -> 0.30234313 | AA14: =SUM(AA8:AA13) -> 428138.09 | AB14: =AA14/AA$30 -> 0.30297101 | AC14: =SUM(AC8:AC13) -> 0 | AD14: =AC14/AC$30 -> #DIV/0! | AE14: =SUM(AE8:AE13) -> 0 | AF14: =AE14/AE$30 -> #DIV/0! | AG14: =SUM(AG8:AG13) -> 0 | AH14: =AG14/AG$30 -> #DIV/0! | AI14: =SUM(AI8:AI13) -> 0 | AJ14: =AI14/AI$30 -> #DIV/0! | AK14: =SUM(AK8:AK13) -> 0 | AL14: =AK14/AK$30 -> #DIV/0! | AM14: =SUM(AM8:AM13) -> 0 | AN14: =AM14/AM$30 -> #DIV/0!
B15: United Ways | C15: 58201 | D15: =C15/C$30 -> 0.047467738 | E15: 33527 | F15: =E15/E$30 -> 0.027941728 | G15: 21404 | H15: =G15/G$30 -> 0.016865907 | I15: 18243 | J15: =I15/I$30 -> 0.01405353 | K15: 21971 | L15: =K15/K$30 -> 0.017127311 | M15: 13944 | N15: =M15/M$30 -> 0.011731705 | O15: 12000 | P15: =O15/O$30 -> 0.012092264 | R15: United Ways | S15: ='E. Output'!C15 -> 12000 | T15: =S15/S$30 -> 0.0087149463 | U15: ='E. Output'!E15 -> 12000 | V15: =U15/U$30 -> 0.008749667 | W15: ='E. Output'!G15 -> 12000 | X15: =W15/W$30 -> 0.0086448753 | Y15: ='E. Output'!I15 -> 12000 | Z15: =Y15/Y$30 -> 0.008572819 | AA15: ='E. Output'!K15 -> 12000 | AB15: =AA15/AA$30 -> 0.0084917746 | AC15: 0 | AD15: =AC15/AC$30 -> #DIV/0! | AE15: 0 | AF15: =AE15/AE$30 -> #DIV/0! | AG15: 0 | AH15: =AG15/AG$30 -> #DIV/0! | AI15: 0 | AJ15: =AI15/AI$30 -> #DIV/0! | AK15: 0 | AL15: =AK15/AK$30 -> #DIV/0! | AM15: 0 | AN15: =AM15/AM$30 -> #DIV/0!
B16: Other Indirect & Government | C16: 33680 | D16: =C16/C$30 -> 0.02746883 | E16: 28887 | F16: =E16/E$30 -> 0.024074707 | G16: 25463 | H16: =G16/G$30 -> 0.020064315 | I16: 24191 | J16: =I16/I$30 -> 0.018635583 | K16: 22640 | L16: =K16/K$30 -> 0.017648824 | M16: 19616 | N16: =M16/M$30 -> 0.01650381 | O16: 20400 | P16: =O16/O$30 -> 0.020556849 | R16: Other Indirect & Government | S16: ='E. Output'!C16 -> 20400 | T16: =S16/S$30 -> 0.014815409 | U16: ='E. Output'!E16 -> 20400 | V16: =U16/U$30 -> 0.014874434 | W16: ='E. Output'!G16 -> 20400 | X16: =W16/W$30 -> 0.014696288 | Y16: ='E. Output'!I16 -> 20400 | Z16: =Y16/Y$30 -> 0.014573792 | AA16: ='E. Output'!K16 -> 20400 | AB16: =AA16/AA$30 -> 0.014436017 | AC16: 0 | AD16: =AC16/AC$30 -> #DIV/0! | AE16: 0 | AF16: =AE16/AE$30 -> #DIV/0! | AG16: 0 | AH16: =AG16/AG$30 -> #DIV/0! | AI16: 0 | AJ16: =AI16/AI$30 -> #DIV/0! | AK16: 0 | AL16: =AK16/AK$30 -> #DIV/0! | AM16: 0 | AN16: =AM16/AM$30 -> #DIV/0!
B17: Total Indirect Support | C17: =SUM(C15:C16) -> 91881 | D17: =C17/C$30 -> 0.074936568 | E17: =SUM(E15:E16) -> 62414 | F17: =E17/E$30 -> 0.052016435 | G17: =SUM(G15:G16) -> 46867 | H17: =G17/G$30 -> 0.036930222 | I17: =SUM(I15:I16) -> 42434 | J17: =I17/I$30 -> 0.032689114 | K17: =SUM(K15:K16) -> 44611 | L17: =K17/K$30 -> 0.034776135 | M17: =SUM(M15:M16) -> 33560 | N17: =M17/M$30 -> 0.028235516 | O17: =SUM(O15:O16) -> 32400 | P17: =O17/O$30 -> 0.032649113 | R17: Total Indirect Support | S17: =SUM(S15:S16) -> 32400 | T17: =S17/S$30 -> 0.023530355 | U17: =SUM(U15:U16) -> 32400 | V17: =U17/U$30 -> 0.023624101 | W17: =SUM(W15:W16) -> 32400 | X17: =W17/W$30 -> 0.023341163 | Y17: =SUM(Y15:Y16) -> 32400 | Z17: =Y17/Y$30 -> 0.023146611 | AA17: =SUM(AA15:AA16) -> 32400 | AB17: =AA17/AA$30 -> 0.022927791 | AC17: =SUM(AC15:AC16) -> 0 | AD17: =AC17/AC$30 -> #DIV/0! | AE17: =SUM(AE15:AE16) -> 0 | AF17: =AE17/AE$30 -> #DIV/0! | AG17: =SUM(AG15:AG16) -> 0 | AH17: =AG17/AG$30 -> #DIV/0! | AI17: =SUM(AI15:AI16) -> 0 | AJ17: =AI17/AI$30 -> #DIV/0! | AK17: =SUM(AK15:AK16) -> 0 | AL17: =AK17/AK$30 -> #DIV/0! | AM17: =SUM(AM15:AM16) -> 0 | AN17: =AM17/AM$30 -> #DIV/0!
B18: Net Sale of Supplies | C18: 9440 | D18: =C18/C$30 -> 0.0076991021 | E18: 10332 | F18: =E18/E$30 -> 0.0086107893 | G18: 7382 | H18: =G18/G$30 -> 0.0058168626 | I18: 6843 | J18: =I18/I$30 -> 0.0052715182 | K18: 10578 | L18: =K18/K$30 -> 0.0082459922 | M18: 1652 | N18: =M18/M$30 -> 0.0013899008 | O18: 4320 | P18: =O18/O$30 -> 0.004353215 | R18: Net Sale of Supplies | S18: ='E. Output'!C18 -> 4320 | T18: =S18/S$30 -> 0.0031373807 | U18: ='E. Output'!E18 -> 4320 | V18: =U18/U$30 -> 0.0031498801 | W18: ='E. Output'!G18 -> 4320 | X18: =W18/W$30 -> 0.0031121551 | Y18: ='E. Output'!I18 -> 4320 | Z18: =Y18/Y$30 -> 0.0030862148 | AA18: ='E. Output'!K18 -> 4320 | AB18: =AA18/AA$30 -> 0.0030570388 | AC18: 0 | AD18: =AC18/AC$30 -> #DIV/0! | AE18: 0 | AF18: =AE18/AE$30 -> #DIV/0! | AG18: 0 | AH18: =AG18/AG$30 -> #DIV/0! | AI18: 0 | AJ18: =AI18/AI$30 -> #DIV/0! | AK18: 0 | AL18: =AK18/AK$30 -> #DIV/0! | AM18: 0 | AN18: =AM18/AM$30 -> #DIV/0!
B19: Net Sale of Products | C19: 139184 | D19: =C19/C$30 -> 0.11351608 | E19: 152679 | F19: =E19/E$30 -> 0.12724416 | G19: 185981 | H19: =G19/G$30 -> 0.14654916 | I19: 210885 | J19: =I19/I$30 -> 0.16245567 | K19: 237621 | L19: =K19/K$30 -> 0.18523548 | M19: 251510 | N19: =M19/M$30 -> 0.21160651 | O19: 215500 | P19: =O19/O$30 -> 0.21715691 | R19: Net Sale of Products | S19: ='E. Output'!C19 -> 215500 | T19: =S19/S$30 -> 0.15650591 | U19: ='E. Output'!E19 -> 215500 | V19: =U19/U$30 -> 0.15712944 | W19: ='E. Output'!G19 -> 215500 | X19: =W19/W$30 -> 0.15524755 | Y19: ='E. Output'!I19 -> 215500 | Z19: =Y19/Y$30 -> 0.15395354 | AA19: ='E. Output'!K19 -> 215500 | AB19: =AA19/AA$30 -> 0.15249812 | AC19: 0 | AD19: =AC19/AC$30 -> #DIV/0! | AE19: 0 | AF19: =AE19/AE$30 -> #DIV/0! | AG19: 0 | AH19: =AG19/AG$30 -> #DIV/0! | AI19: 0 | AJ19: =AI19/AI$30 -> #DIV/0! | AK19: 0 | AL19: =AK19/AK$30 -> #DIV/0! | AM19: 0 | AN19: =AM19/AM$30 -> #DIV/0!
B20: Investment Income | C20: =62946-72 -> 62874 | D20: =C20/C$30 -> 0.051278956 | E20: 103008 | F20: =E20/E$30 -> 0.085847869 | G20: =77010 -> 77010 | H20: =G20/G$30 -> 0.06068228 | I20: 80782 | J20: =I20/I$30 -> 0.062230569 | K20: 74454 | L20: =K20/K$30 -> 0.058039998 | M20: 120178 | N20: =M20/M$30 -> 0.10111108 | O20: 114805 | P20: =O20/O$30 -> 0.1156877 | R20: Investment Income | S20: ='E. Output'!C20 -> 491696.13 | T20: =S20/S$30 -> 0.35709211 | U20: ='E. Output'!E20 -> 478367.5 | V20: =U20/U$30 -> 0.34879636 | W20: ='E. Output'!G20 -> 486942.18 | X20: =W20/W$30 -> 0.3507962 | Y20: ='E. Output'!I20 -> 490368.92 | Z20: =Y20/Y$30 -> 0.35032033 | AA20: ='E. Output'!K20 -> 495504.03 | AB20: =AA20/AA$30 -> 0.35064237 | AC20: 0 | AD20: =AC20/AC$30 -> #DIV/0! | AE20: 0 | AF20: =AE20/AE$30 -> #DIV/0! | AG20: 0 | AH20: =AG20/AG$30 -> #DIV/0! | AI20: 0 | AJ20: =AI20/AI$30 -> #DIV/0! | AK20: 0 | AL20: =AK20/AK$30 -> #DIV/0! | AM20: 0 | AN20: =AM20/AM$30 -> #DIV/0!
B21: Gain or Loss on Transactions | C21: 0 | D21: =C21/C$30 -> 0 | E21: 0 | F21: =E21/E$30 -> 0 | G21: -545 | H21: =G21/G$30 -> -0.00042944867 | I21: 776 | J21: =I21/I$30 -> 0.0005977931 | K21: 1666 | L21: =K21/K$30 -> 0.0012987165 | M21: =48-1682 -> -1634 | N21: =M21/M$30 -> -0.0013747566 | P21: =O21/O$30 -> 0 | R21: Gain or Loss on Transactions | S21: ='E. Output'!C21 -> 0 | T21: =S21/S$30 -> 0 | U21: ='E. Output'!E21 -> 0 | V21: =U21/U$30 -> 0 | W21: ='E. Output'!G21 -> 0 | X21: =W21/W$30 -> 0 | Y21: ='E. Output'!I21 -> 0 | Z21: =Y21/Y$30 -> 0 | AA21: ='E. Output'!K21 -> 0 | AB21: =AA21/AA$30 -> 0 | AD21: =AC21/AC$30 -> #DIV/0! | AE21: 0 | AF21: =AE21/AE$30 -> #DIV/0! | AG21: 0 | AH21: =AG21/AG$30 -> #DIV/0! | AI21: 0 | AJ21: =AI21/AI$30 -> #DIV/0! | AK21: 0 | AL21: =AK21/AK$30 -> #DIV/0! | AM21: 0 | AN21: =AM21/AM$30 -> #DIV/0!
B22: Camping | C22: 323022 | D22: =C22/C$30 -> 0.2634512 | E22: 255241 | F22: =E22/E$30 -> 0.21272033 | G22: 360676 | H22: =G22/G$30 -> 0.28420519 | I22: 312113 | J22: =I22/I$30 -> 0.24043685 | K22: 288655 | L22: =K22/K$30 -> 0.22501861 | M22: 236957 | N22: =M22/M$30 -> 0.19936243 | O22: 26535 | P22: =O22/O$30 -> 0.026739019 | R22: Camping | S22: ='E. Output'!C22 -> 26933.025 | T22: =S22/S$30 -> 0.019559989 | U22: ='E. Output'!E22 -> 27337.02 | V22: =U22/U$30 -> 0.019932486 | W22: ='E. Output'!G22 -> 27747.076 | X22: =W22/W$30 -> 0.019989167 | Y22: ='E. Output'!I22 -> 28163.282 | Z22: =Y22/Y$30 -> 0.020119893 | AA22: ='E. Output'!K22 -> 28585.731 | AB22: =AA22/AA$30 -> 0.020228632 | AC22: 0 | AD22: =AC22/AC$30 -> #DIV/0! | AE22: 0 | AF22: =AE22/AE$30 -> #DIV/0! | AG22: 0 | AH22: =AG22/AG$30 -> #DIV/0! | AI22: 0 | AJ22: =AI22/AI$30 -> #DIV/0! | AK22: 0 | AL22: =AK22/AK$30 -> #DIV/0! | AM22: 0 | AN22: =AM22/AM$30 -> #DIV/0!
B23: Activities | C23: 162458 | D23: =C23/C$30 -> 0.13249796 | E23: 52715 | F23: =E23/E$30 -> 0.043933194 | G23: 54384 | H23: =G23/G$30 -> 0.042853462 | I23: 66404 | J23: =I23/I$30 -> 0.051154449 | K23: 106711 | L23: =K23/K$30 -> 0.083185675 | M23: 64086 | N23: =M23/M$30 -> 0.053918393 | O23: 39310 | P23: =O23/O$30 -> 0.039612241 | R23: Activities | S23: ='E. Output'!C23 -> 39899.65 | T23: =S23/S$30 -> 0.028976942 | U23: ='E. Output'!E23 -> 40498.145 | V23: =U23/U$30 -> 0.029528774 | W23: ='E. Output'!G23 -> 41105.617 | X23: =W23/W$30 -> 0.029612744 | Y23: ='E. Output'!I23 -> 41722.201 | Z23: =Y23/Y$30 -> 0.029806406 | AA23: ='E. Output'!K23 -> 42139.423 | AB23: =AA23/AA$30 -> 0.029819873 | AC23: 0 | AD23: =AC23/AC$30 -> #DIV/0! | AE23: 0 | AF23: =AE23/AE$30 -> #DIV/0! | AG23: 0 | AH23: =AG23/AG$30 -> #DIV/0! | AI23: 0 | AJ23: =AI23/AI$30 -> #DIV/0! | AK23: 0 | AL23: =AK23/AK$30 -> #DIV/0! | AM23: 0 | AN23: =AM23/AM$30 -> #DIV/0!
B24: -Jamboree Rev Est. (enter as Positive number) | C24: 104130 | D24: =C24/C$30 -> 0.084926642 | E24: 0 | F24: =E24/E$30 -> 0 | G24: 0 | H24: =G24/G$30 -> 0 | I24: 0 | J24: =I24/I$30 -> 0 | K24: 64104 | L24: =K24/K$30 -> 0.049971742 | M24: 0 | N24: =M24/M$30 -> 0 | O24: 0 | P24: =O24/O$30 -> 0 | R24: -Jamboree Rev Est. (enter as Positive number) | S24: ='E. Output'!C24 -> 0 | T24: =S24/S$30 -> 0 | U24: ='E. Output'!E24 -> 0 | V24: =U24/U$30 -> 0 | W24: ='E. Output'!G24 -> 0 | X24: =W24/W$30 -> 0 | Y24: ='E. Output'!I24 -> 0 | Z24: =Y24/Y$30 -> 0 | AA24: ='E. Output'!K24 -> 0 | AB24: =AA24/AA$30 -> 0 | AC24: 0 | AD24: =AC24/AC$30 -> #DIV/0! | AE24: 0 | AF24: =AE24/AE$30 -> #DIV/0! | AG24: 0 | AH24: =AG24/AG$30 -> #DIV/0! | AI24: 0 | AJ24: =AI24/AI$30 -> #DIV/0! | AK24: 0 | AL24: =AK24/AK$30 -> #DIV/0! | AM24: 0 | AN24: =AM24/AM$30 -> #DIV/0!
B25: Activities Net | C25: =C23-C24 -> 58328 | D25: =C25/C$30 -> 0.047571317 | E25: =E23-E24 -> 52715 | F25: =E25/E$30 -> 0.043933194 | G25: =G23-G24 -> 54384 | H25: =G25/G$30 -> 0.042853462 | I25: =I23-I24 -> 66404 | J25: =I25/I$30 -> 0.051154449 | K25: =K23-K24 -> 42607 | L25: =K25/K$30 -> 0.033213934 | M25: =M23-M24 -> 64086 | N25: =M25/M$30 -> 0.053918393 | O25: =O23-O24 -> 39310 | P25: =O25/O$30 -> 0.039612241 | R25: Activities Net | S25: =S23-S24 -> 39899.65 | T25: =S25/S$30 -> 0.028976942 | U25: =U23-U24 -> 40498.145 | V25: =U25/U$30 -> 0.029528774 | W25: =W23-W24 -> 41105.617 | X25: =W25/W$30 -> 0.029612744 | Y25: =Y23-Y24 -> 41722.201 | Z25: =Y25/Y$30 -> 0.029806406 | AA25: =AA23-AA24 -> 42139.423 | AB25: =AA25/AA$30 -> 0.029819873 | AC25: =AC23-AC24 -> 0 | AD25: =AC25/AC$30 -> #DIV/0! | AE25: =AE23-AE24 -> 0 | AF25: =AE25/AE$30 -> #DIV/0! | AG25: =AG23-AG24 -> 0 | AH25: =AG25/AG$30 -> #DIV/0! | AI25: =AI23-AI24 -> 0 | AJ25: =AI25/AI$30 -> #DIV/0! | AK25: =AK23-AK24 -> 0 | AL25: =AK25/AK$30 -> #DIV/0! | AM25: =AM23-AM24 -> 0 | AN25: =AM25/AM$30 -> #DIV/0!
B26: Other Revenue Less Program Fee | C26: 11964 | D26: =C26/C$30 -> 0.0097576332 | E26: 11531 | F26: =E26/E$30 -> 0.0096100476 | G26: 19518 | H26: =G26/G$30 -> 0.015379778 | I26: 18459 | J26: =I26/I$30 -> 0.014219926 | K26: =22731-4 -> 22727 | L26: =K26/K$30 -> 0.017716644 | M26: =24744+1 -> 24745 | O26: 600 | P26: =O26/O$30 -> 0.0006046132 | R26: Other Revenue Less Program Fee | S26: ='E. Output'!C26 -> 609 | T26: =S26/S$30 -> 0.00044228352 | U26: ='E. Output'!E26 -> 618.135 | V26: =U26/U$30 -> 0.00045070629 | W26: ='E. Output'!G26 -> 627.40702 | X26: =W26/W$30 -> 0.00045198796 | Y26: ='E. Output'!I26 -> 636.81813 | AA26: ='E. Output'!K26 -> 643.18631 | AB26: =AA26/AA$30 -> 0.00045514943
B27: Program Fee | C27: 0 | D27: =C27/C$30 -> 0 | E27: 0 | F27: =E27/E$30 -> 0 | G27: 0 | H27: =G27/G$30 -> 0 | I27: 0 | J27: =I27/I$30 -> 0 | K27: 0 | L27: =K27/K$30 -> 0 | M27: 0 | N27: =M27/M$30 -> 0 | O27: 154000 | P27: =O27/O$30 -> 0.15518405 | R27: Program Fee | S27: ='E. Output'!C27 -> 156310 | T27: =S27/S$30 -> 0.11351944 | U27: ='E. Output'!E27 -> 158654.65 | V27: =U27/U$30 -> 0.11568128 | W27: ='E. Output'!G27 -> 161034.47 | X27: =W27/W$30 -> 0.11601024 | Y27: ='E. Output'!I27 -> 163449.99 | Z27: =Y27/Y$30 -> 0.11676893 | AA27: ='E. Output'!K27 -> 165901.74 | AB27: =AA27/AA$30 -> 0.11740001 | AC27: 0 | AD27: =AC27/AC$30 -> #DIV/0! | AE27: 0 | AF27: =AE27/AE$30 -> #DIV/0! | AG27: 0 | AH27: =AG27/AG$30 -> #DIV/0! | AI27: 0 | AJ27: =AI27/AI$30 -> #DIV/0! | AK27: 0 | AL27: =AK27/AK$30 -> #DIV/0! | AM27: 0 | AN27: =AM27/AM$30 -> #DIV/0!
B28: Total Adjusted Revenue | C28: =C18+C19+C20+C21+C22+C25+C26+C27 -> 604812 | D28: =C28/C$30 -> 0.4932743 | E28: =E18+E19+E20+E21+E22+E25+E27+E26 -> 585506 | F28: =E28/E$30 -> 0.4879664 | G28: =G18+G19+G20+G21+G22+G25+G27+G26 -> 704406 | H28: =G28/G$30 -> 0.55505729 | I28: =I18+I19+I20+I21+I22+I25+I27+I26 -> 696262 | J28: =I28/I$30 -> 0.53636677 | K28: =K18+K19+K20+K21+K22+K25+K27+K26 -> 678308 | L28: =K28/K$30 -> 0.52876938 | M28: =M18+M19+M20+M21+M22+M25+M27+M26 -> 697494 | N28: =M28/M$30 -> 0.58683262 | O28: =O18+O19+O20+O21+O22+O25+O27+O26 -> 555070 | P28: =O28/O$30 -> 0.55933775 | R28: Total Adjusted Revenue | S28: =S18+S19+S20+S21+S22+S25+S27+S26 -> 935267.81 | T28: =S28/S$30 -> 0.67923406 | U28: =U18+U19+U20+U21+U22+U25+U27+U26 -> 925295.45 | V28: =U28/U$30 -> 0.67466893 | W28: =W18+W19+W20+W21+W22+W25+W27+W26 -> 937276.75 | X28: =W28/W$30 -> 0.67522005 | Y28: =Y18+Y19+Y20+Y21+Y22+Y25+Y27+Y26 -> 944161.2 | Z28: =Y28/Y$30 -> 0.67451026 | AA28: =AA18+AA19+AA20+AA21+AA22+AA25+AA27+AA26 -> 952594.1 | AB28: =AA28/AA$30 -> 0.6741012 | AC28: =AC18+AC19+AC20+AC21+AC22+AC25+AC27 -> 0 | AD28: =AC28/AC$30 -> #DIV/0! | AE28: =AE18+AE19+AE20+AE21+AE22+AE25+AE27 -> 0 | AF28: =AE28/AE$30 -> #DIV/0! | AG28: =AG18+AG19+AG20+AG21+AG22+AG25+AG27 -> 0 | AH28: =AG28/AG$30 -> #DIV/0! | AI28: =AI18+AI19+AI20+AI21+AI22+AI25+AI27 -> 0 | AJ28: =AI28/AI$30 -> #DIV/0! | AK28: =AK18+AK19+AK20+AK21+AK22+AK25+AK27 -> 0 | AL28: =AK28/AK$30 -> #DIV/0! | AM28: =AM18+AM19+AM20+AM21+AM22+AM25+AM27 -> 0 | AN28: =AM28/AM$30 -> #DIV/0!
B29: Total Reclass of Net Assets | C29: 0 | D29: =C29/C$30 -> 0 | E29: 0 | F29: =E29/E$30 -> 0 | G29: 0 | H29: =G29/G$30 -> 0 | I29: 0 | J29: =I29/I$30 -> 0 | K29: 0 | L29: =K29/K$30 -> 0 | M29: 0 | N29: =M29/M$30 -> 0 | O29: 0 | P29: =O29/O$30 -> 0 | R29: Total Reclass of Net Assets | S29: ='E. Output'!C29 -> 0 | T29: =S29/S$30 -> 0 | U29: ='E. Output'!E29 -> 0 | V29: =U29/U$30 -> 0 | W29: ='E. Output'!G29 -> 0 | X29: =W29/W$30 -> 0 | Y29: ='E. Output'!I29 -> 0 | Z29: =Y29/Y$30 -> 0 | AA29: ='E. Output'!K29 -> 0 | AB29: =AA29/AA$30 -> 0 | AC29: 0 | AD29: =AC29/AC$30 -> #DIV/0! | AE29: 0 | AF29: =AE29/AE$30 -> #DIV/0! | AG29: 0 | AH29: =AG29/AG$30 -> #DIV/0! | AI29: 0 | AJ29: =AI29/AI$30 -> #DIV/0! | AK29: 0 | AL29: =AK29/AK$30 -> #DIV/0! | AM29: 0 | AN29: =AM29/AM$30 -> #DIV/0!
A30: Total Adjusted Income & Transfers | C30: =C14+C17+C28+C29 -> 1226117 | D30: =C30/C$30 -> 1 | E30: =E14+E17+E28+E29 -> 1199890 | F30: =E30/E$30 -> 1 | G30: =G14+G17+G28+G29 -> 1269069 | H30: =G30/G$30 -> 1 | I30: =I14+I17+I28+I29 -> 1298108 | J30: =I30/I$30 -> 1 | K30: =K14+K17+K28+K29 -> 1282805 | L30: =K30/K$30 -> 1 | M30: =M14+M17+M28+M29 -> 1188574 | N30: =M30/M$30 -> 1 | O30: =O14+O17+O28+O29 -> 992370 | P30: =O30/O$30 -> 1 | Q30: Total Adjusted Income & Transfers | S30: =S14+S17+S28+S29 -> 1376944.8 | T30: =S30/S$30 -> 1 | U30: =U14+U17+U28+U29 -> 1371480.8 | V30: =U30/U$30 -> 1 | W30: =W14+W17+W28+W29 -> 1388105.6 | X30: =W30/W$30 -> 1 | Y30: =Y14+Y17+Y28+Y29 -> 1399772.9 | Z30: =Y30/Y$30 -> 1 | AA30: =AA14+AA17+AA28+AA29 -> 1413132.2 | AB30: =AA30/AA$30 -> 1 | AC30: =AC14+AC17+AC28+AC29 -> 0 | AD30: =AC30/AC$30 -> #DIV/0! | AE30: =AE14+AE17+AE28+AE29 -> 0 | AF30: =AE30/AE$30 -> #DIV/0! | AG30: =AG14+AG17+AG28+AG29 -> 0 | AH30: =AG30/AG$30 -> #DIV/0! | AI30: =AI14+AI17+AI28+AI29 -> 0 | AJ30: =AI30/AI$30 -> #DIV/0! | AK30: =AK14+AK17+AK28+AK29 -> 0 | AL30: =AK30/AK$30 -> #DIV/0! | AM30: =AM14+AM17+AM28+AM29 -> 0 | AN30: =AM30/AM$30 -> #DIV/0!
A32: Operating Expense & Transfers | Q32: Operating Expense & Transfers | AR32: \
AR33: ]]]]]]]]]]]]]]]
B34: Total Employee Compensation | C34: 652625 | D34: =C34/C$38 -> 0.5378841 | E34: 654187 | F34: =E34/E$38 -> 0.5574808 | G34: 666704 | H34: =G34/G$38 -> 0.52937426 | I34: 717212 | J34: =I34/I$38 -> 0.5532276 | K34: 655769 | L34: =K34/K$38 -> 0.52376 | M34: 563919 | N34: =M34/M$38 -> 0.51544077 | O34: 614306 | P34: =O34/O$38 -> 0.62924942 | R34: Total Employee Compensation | S34: ='E. Output'!C34 -> 632735.18 | T34: =S34/S$38 -> 0.63038396 | U34: ='E. Output'!E34 -> 651717.24 | V34: =U34/U$38 -> 0.63151706 | W34: ='E. Output'!G34 -> 671268.75 | X34: =W34/W$38 -> 0.63264871 | Y34: ='E. Output'!I34 -> 691406.82 | Z34: =Y34/Y$38 -> 0.6337789 | AA34: ='E. Output'!K34 -> 712149.02 | AB34: =AA34/AA$38 -> 0.63490762 | AC34: 0 | AD34: =AC34/AC$38 -> #DIV/0! | AE34: 0 | AF34: =AE34/AE$38 -> #DIV/0! | AG34: 0 | AH34: =AG34/AG$38 -> #DIV/0! | AI34: 0 | AJ34: =AI34/AI$38 -> #DIV/0! | AK34: 0 | AL34: =AK34/AK$38 -> #DIV/0! | AM34: 0 | AN34: =AM34/AM$38 -> #DIV/0!
B35: Total Other Expenses | C35: 664824 | D35: =C35/C$38 -> 0.54793834 | E35: 519283 | F35: =E35/E$38 -> 0.4425192 | G35: 592715 | H35: =G35/G$38 -> 0.47062574 | I35: 579202 | J35: =I35/I$38 -> 0.4467724 | K35: =660376 -> 660376 | L35: =K35/K$38 -> 0.5274396 | M35: =530132+1 -> 530133 | N35: =M35/M$38 -> 0.48455923 | O35: 361946 | P35: =O35/O$38 -> 0.37075058 | R35: Total Other Expenses | S35: ='E. Output'!C35 -> 370994.65 | T35: =S35/S$38 -> 0.36961604 | U35: ='E. Output'!E35 -> 380269.52 | V35: =U35/U$38 -> 0.36848294 | W35: ='E. Output'!G35 -> 389776.25 | X35: =W35/W$38 -> 0.36735129 | Y35: ='E. Output'!I35 -> 399520.66 | Z35: =Y35/Y$38 -> 0.3662211 | AA35: ='E. Output'!K35 -> 409508.68 | AB35: =AA35/AA$38 -> 0.36509238 | AC35: 0 | AD35: =AC35/AC$38 -> #DIV/0! | AE35: 0 | AF35: =AE35/AE$38 -> #DIV/0! | AG35: 0 | AH35: =AG35/AG$38 -> #DIV/0! | AI35: 0 | AJ35: =AI35/AI$38 -> #DIV/0! | AK35: 0 | AL35: =AK35/AK$38 -> #DIV/0! | AM35: 0 | AN35: =AM35/AM$38 -> #DIV/0!
B36: -Jamboree Exp. (no entry-carried from line 24) | C36: =C24 -> 104130 | D36: =C36/C$38 -> 0.085822442 | E36: =E24 -> 0 | F36: =E36/E$38 -> 0 | G36: =G24 -> 0 | H36: =G36/G$38 -> 0 | I36: =I24 -> 0 | J36: =I36/I$38 -> 0 | K36: =K24 -> 64104 | L36: =K36/K$38 -> 0.051199601 | M36: =M24 -> 0 | N36: =M36/M$38 -> 0 | O36: =O24 -> 0 | P36: =O36/O$38 -> 0 | R36: -Jamboree Exp. (no entry-carried from line 24) | S36: ='E. Output'!C36 -> 0 | T36: =S36/S$38 -> 0 | U36: ='E. Output'!E36 -> 0 | V36: =U36/U$38 -> 0 | W36: ='E. Output'!G36 -> 0 | X36: =W36/W$38 -> 0 | Y36: ='E. Output'!I36 -> 0 | Z36: =Y36/Y$38 -> 0 | AA36: ='E. Output'!K36 -> 0 | AB36: =AA36/AA$38 -> 0 | AC36: =AC24 -> 0 | AD36: =AC36/AC$38 -> #DIV/0! | AE36: =AE24 -> 0 | AF36: =AE36/AE$38 -> #DIV/0! | AG36: =AG24 -> 0 | AH36: =AG36/AG$38 -> #DIV/0! | AI36: =AI24 -> 0 | AJ36: =AI36/AI$38 -> #DIV/0! | AK36: =AK24 -> 0 | AL36: =AK36/AK$38 -> #DIV/0! | AM36: =AM24 -> 0 | AN36: =AM36/AM$38 -> #DIV/0!
B37: Net Other Expenses | C37: =C35-C36 -> 560694 | D37: =C37/C$38 -> 0.4621159 | E37: =E35-E36 -> 519283 | F37: =E37/E$38 -> 0.4425192 | G37: =G35-G36 -> 592715 | H37: =G37/G$38 -> 0.47062574 | I37: =I35-I36 -> 579202 | J37: =I37/I$38 -> 0.4467724 | K37: =K35-K36 -> 596272 | L37: =K37/K$38 -> 0.47624 | M37: =M35-M36 -> 530133 | N37: =M37/M$38 -> 0.48455923 | O37: =O35-O36 -> 361946 | P37: =O37/O$38 -> 0.37075058 | R37: Net Other Expenses | S37: ='E. Output'!C37 -> 370994.65 | T37: =S37/S$38 -> 0.36961604 | U37: ='E. Output'!E37 -> 380269.52 | V37: =U37/U$38 -> 0.36848294 | W37: ='E. Output'!G37 -> 389776.25 | X37: =W37/W$38 -> 0.36735129 | Y37: ='E. Output'!I37 -> 399520.66 | Z37: =Y37/Y$38 -> 0.3662211 | AA37: ='E. Output'!K37 -> 409508.68 | AB37: =AA37/AA$38 -> 0.36509238 | AC37: =AC35-AC36 -> 0 | AD37: =AC37/AC$38 -> #DIV/0! | AE37: =AE35-AE36 -> 0 | AF37: =AE37/AE$38 -> #DIV/0! | AG37: =AG35-AG36 -> 0 | AH37: =AG37/AG$38 -> #DIV/0! | AI37: =AI35-AI36 -> 0 | AJ37: =AI37/AI$38 -> #DIV/0! | AK37: =AK35-AK36 -> 0 | AL37: =AK37/AK$38 -> #DIV/0! | AM37: =AM35-AM36 -> 0 | AN37: =AM37/AM$38 -> #DIV/0!
A38: Total Expenses | C38: =C34+C37 -> 1213319 | D38: =C38/C$38 -> 1 | E38: =E34+E37 -> 1173470 | F38: =E38/E$38 -> 1 | G38: =G34+G37 -> 1259419 | H38: =G38/G$38 -> 1 | I38: =I34+I37 -> 1296414 | J38: =I38/I$38 -> 1 | K38: =K34+K37 -> 1252041 | L38: =K38/K$38 -> 1 | M38: =M34+M37 -> 1094052 | N38: 1 | O38: =O34+O37 -> 976252 | P38: =O38/O$38 -> 1 | Q38: Total Expenses | S38: =S34+S37 -> 1003729.8 | T38: =S38/S$38 -> 1 | U38: =U34+U37 -> 1031986.8 | V38: =U38/U$38 -> 1 | W38: =W34+W37 -> 1061045 | X38: =W38/W$38 -> 1 | Y38: =Y34+Y37 -> 1090927.5 | Z38: =Y38/Y$38 -> 1 | AA38: =AA34+AA37 -> 1121657.7 | AB38: 1 | AC38: =AC34+AC37 -> 0 | AD38: =AC38/AC$38 -> #DIV/0! | AE38: =AE34+AE37 -> 0 | AF38: =AE38/AE$38 -> #DIV/0! | AG38: =AG34+AG37 -> 0 | AH38: =AG38/AG$38 -> #DIV/0! | AI38: =AI34+AI37 -> 0 | AJ38: =AI38/AI$38 -> #DIV/0! | AK38: =AK34+AK37 -> 0 | AL38: =AK38/AK$38 -> #DIV/0! | AM38: =AM34+AM37 -> 0 | AN38: 1
A40: Increase(Decrease) in Unrestricted Net Assets | C40: =C30-C38 -> 12798 | E40: =E30-E38 -> 26420 | G40: =G30-G38 -> 9650 | I40: =I30-I38 -> 1694 | K40: =K30-K38 -> 30764 | M40: =M30-M38 -> 94522 | O40: =O30-O38 -> 16118 | Q40: Increase(Decrease) in Unrestricted Net Assets | S40: =S30-S38 -> 373214.98 | U40: =U30-U38 -> 339494.01 | W40: =W30-W38 -> 327060.62 | Y40: =Y30-Y38 -> 308845.46 | AA40: =AA30-AA38 -> 291474.5 | AC40: =AC30-AC38 -> 0 | AE40: =AE30-AE38 -> 0 | AG40: =AG30-AG38 -> 0 | AI40: =AI30-AI38 -> 0 | AK40: =AK30-AK38 -> 0 | AM40: =AM30-AM38 -> 0
R41: Target Surplus at 5% of Revenue | S41: =(0.05*S30) -> 68847.24 | U41: =(0.05*U30) -> 68574.038 | W41: =(0.05*W30) -> 69405.281 | Y41: =(0.05*Y30) -> 69988.647 | AA41: =(0.05*AA30) -> 70656.61
A42: Unrestricted Net Assets Beginning of Year | C42: 300000 | E42: =C45 -> 296819 | G42: =E45 -> 713626.09 | I42: =G45 -> 706250.09 | K42: =I45 -> 715223.09 | M42: =K45 -> 988588.09 | O42: =M45 -> 1095300.1 | Q42: Unrestricted Net Assets Beginning of Year | S42: =O45 -> 1111418.1 | U42: =S45 -> 1384633.1 | W42: =U45 -> 1724127.1 | Y42: =W45 -> 2051187.7 | AA42: =Y45 -> 2360033.2 | AC42: 0 | AE42: =AC45 -> 0 | AG42: =AE45 -> 0 | AI42: =AG45 -> 0 | AK42: =AI45 -> 0 | AM42: =AK45 -> 0
A43: Adjustments to Net Assets | C43: 0 | E43: 0 | G43: =-18026+1000 -> -17026 | I43: =-51 -> -51 | K43: =-7400+1 -> -7399 | M43: =-14810 -> -14810 | O43: 0 | Q43: Adjustments to Net Assets | S43: 0 | U43: 0 | W43: 0 | Y43: 0 | AC43: 0 | AE43: 0 | AG43: 0 | AI43: 0 | AK43: 0
A44: Transfers | C44: =-15977-2 -> -15979 | E44: 390387.09 | G44: 0 | I44: =7330 -> 7330 | K44: 250000 | M44: 27000 | O44: 0 | Q44: Transfers | S44: ='E. Output'!C41 -> 100000 | U44: ='E. Output'!E41 -> 0 | W44: ='E. Output'!G41 -> 0 | Y44: ='E. Output'!I41 -> 0 | AA44: ='E. Output'!K41 -> 0 | AC44: 0 | AE44: 0 | AG44: 0 | AI44: 0 | AK44: 0
...

Sheet B. Historical Growth
A1: B. Historical Growth | H1: =Setup!B2 -> Five Year Operating and Membership Plan
A2: =Setup!B6&" Council Operating Fund Historical Growth" -> Sample Council- #0325 Council Operating Fund Historical Growth
D3: =Setup!$B4-4 -> 2018 | F3: =Setup!$B4-3 -> 2019 | H3: =Setup!$B4-2 -> 2020 | J3: =Setup!$B4-1 -> 2021 | L3: =Setup!$B4 -> 2022 | N3: 4 Year | P3: 5 Year
D4: % Annual Growth | F4: % Annual Growth | H4: % Annual Growth | J4: % Annual Growth | L4: % Budget Growth | N4: ACTUAL CAGR | P4: BUDGET CAGR
A5: Operating Income & Transfers
B6: Net Friends of Scouting | D6: =IF('A. History Input & Output'!E8=0,IF('A. History Input & Output'!G8=0,0,1),'A. History Input & Output'!G8/'A. History Input & Output'!E8-1) -> -0.1882865 | F6: =IF('A. History Input & Output'!G8=0,IF('A. History Input & Output'!I8=0,0,1),'A. History Input & Output'!I8/'A. History Input & Output'!G8-1) -> 0.042081792 | H6: =IF('A. History Input & Output'!I8=0,IF('A. History Input & Output'!K8=0,0,1),'A. History Input & Output'!K8/'A. History Input & Output'!I8-1) -> -0.16098605 | J6: =IF('A. History Input & Output'!K8=0,IF('A. History Input & Output'!M8=0,0,1),'A. History Input & Output'!M8/'A. History Input & Output'!K8-1) -> 0.23658572 | L6: =IF('A. History Input & Output'!M8=0,IF('A. History Input & Output'!O8=0,0,1),'A. History Input & Output'!O8/'A. History Input & Output'!M8-1) -> -0.62571068 | N6: =(IF(F6=0,0,IF('A. History Input & Output'!E8=0,"0",POWER('A. History Input & Output'!M8/'A. History Input & Output'!E8,1/4))))-1 -> -0.032113357 | P6: =(IF(F6=0,0,IF('A. History Input & Output'!E8=0,"0",POWER('A. History Input & Output'!O8/'A. History Input & Output'!E8,1/5))))-1 -> -0.19961105
B7: Project Sales | D7: =IF('A. History Input & Output'!E9=0,IF('A. History Input & Output'!G9=0,0,1),'A. History Input & Output'!G9/'A. History Input & Output'!E9-1) -> 1 | F7: =IF('A. History Input & Output'!G9=0,IF('A. History Input & Output'!I9=0,0,1),'A. History Input & Output'!I9/'A. History Input & Output'!G9-1) -> -0.87478087 | H7: =IF('A. History Input & Output'!I9=0,IF('A. History Input & Output'!K9=0,0,1),'A. History Input & Output'!K9/'A. History Input & Output'!I9-1) -> -1 | J7: =IF('A. History Input & Output'!K9=0,IF('A. History Input & Output'!M9=0,0,1),'A. History Input & Output'!M9/'A. History Input & Output'!K9-1) -> 0 | L7: =IF('A. History Input & Output'!M9=0,IF('A. History Input & Output'!O9=0,0,1),'A. History Input & Output'!O9/'A. History Input & Output'!M9-1) -> 0 | N7: =(IF(F7=0,0,IF('A. History Input & Output'!E9=0,"0",POWER('A. History Input & Output'!M9/'A. History Input & Output'!E9,1/4))))-1 -> -1 | P7: =(IF(F7=0,0,IF('A. History Input & Output'!E9=0,"0",POWER('A. History Input & Output'!O9/'A. History Input & Output'!E9,1/5))))-1 -> -1
B8: Net Special Fundraising Events | D8: =IF('A. History Input & Output'!E10=0,IF('A. History Input & Output'!G10=0,0,1),'A. History Input & Output'!G10/'A. History Input & Output'!E10-1) -> 0.19555965 | F8: =IF('A. History Input & Output'!G10=0,IF('A. History Input & Output'!I10=0,0,1),'A. History Input & Output'!I10/'A. History Input & Output'!G10-1) -> -0.13718368 | H8: =IF('A. History Input & Output'!I10=0,IF('A. History Input & Output'!K10=0,0,1),'A. History Input & Output'!K10/'A. History Input & Output'!I10-1) -> -0.27037275 | J8: =IF('A. History Input & Output'!K10=0,IF('A. History Input & Output'!M10=0,0,1),'A. History Input & Output'!M10/'A. History Input & Output'!K10-1) -> -0.2706176 | L8: =IF('A. History Input & Output'!M10=0,IF('A. History Input & Output'!O10=0,0,1),'A. History Input & Output'!O10/'A. History Input & Output'!M10-1) -> -0.19847728 | N8: =(IF(F8=0,0,IF('A. History Input & Output'!E10=0,"0",POWER('A. History Input & Output'!M10/'A. History Input & Output'!E10,1/4))))-1 -> -0.13923127 | P8: =(IF(F8=0,0,IF('A. History Input & Output'!E10=0,"0",POWER('A. History Input & Output'!O10/'A. History Input & Output'!E10,1/5))))-1 -> -0.15142086
B9: Legacies & Bequests | D9: =IF('A. History Input & Output'!E11=0,IF('A. History Input & Output'!G11=0,0,1),'A. History Input & Output'!G11/'A. History Input & Output'!E11-1) -> -0.96187695 | F9: =IF('A. History Input & Output'!G11=0,IF('A. History Input & Output'!I11=0,0,1),'A. History Input & Output'!I11/'A. History Input & Output'!G11-1) -> 19.230849 | H9: =IF('A. History Input & Output'!I11=0,IF('A. History Input & Output'!K11=0,0,1),'A. History Input & Output'!K11/'A. History Input & Output'!I11-1) -> 1.833372 | J9: =IF('A. History Input & Output'!K11=0,IF('A. History Input & Output'!M11=0,0,1),'A. History Input & Output'!M11/'A. History Input & Output'!K11-1) -> -1 | L9: =IF('A. History Input & Output'!M11=0,IF('A. History Input & Output'!O11=0,0,1),'A. History Input & Output'!O11/'A. History Input & Output'!M11-1) -> 0 | N9: =(IF(F9=0,0,IF('A. History Input & Output'!E11=0,"0",POWER('A. History Input & Output'!M11/'A. History Input & Output'!E11,1/4))))-1 -> -1 | P9: =(IF(F9=0,0,IF('A. History Input & Output'!E11=0,"0",POWER('A. History Input & Output'!O11/'A. History Input & Output'!E11,1/5))))-1 -> -1
B10: Foundations & Trusts | D10: =IF('A. History Input & Output'!E12=0,IF('A. History Input & Output'!G12=0,0,1),'A. History Input & Output'!G12/'A. History Input & Output'!E12-1) -> 0.51385979 | F10: =IF('A. History Input & Output'!G12=0,IF('A. History Input & Output'!I12=0,0,1),'A. History Input & Output'!I12/'A. History Input & Output'!G12-1) -> -0.082195533 | H10: =IF('A. History Input & Output'!I12=0,IF('A. History Input & Output'!K12=0,0,1),'A. History Input & Output'!K12/'A. History Input & Output'!I12-1) -> 0.16131515 | J10: =IF('A. History Input & Output'!K12=0,IF('A. History Input & Output'!M12=0,0,1),'A. History Input & Output'!M12/'A. History Input & Output'!K12-1) -> -0.10465053 | L10: =IF('A. History Input & Output'!M12=0,IF('A. History Input & Output'!O12=0,0,1),'A. History Input & Output'!O12/'A. History Input & Output'!M12-1) -> 0.3823736 | N10: =(IF(F10=0,0,IF('A. History Input & Output'!E12=0,"0",POWER('A. History Input & Output'!M12/'A. History Input & Output'!E12,1/4))))-1 -> 0.096338393 | P10: =(IF(F10=0,0,IF('A. History Input & Output'!E12=0,"0",POWER('A. History Input & Output'!O12/'A. History Input & Output'!E12,1/5))))-1 -> 0.14836721
B11: Other Direct Support | D11: =IF('A. History Input & Output'!E13=0,IF('A. History Input & Output'!G13=0,0,1),'A. History Input & Output'!G13/'A. History Input & Output'!E13-1) -> 0.0688 | F11: =IF('A. History Input & Output'!G13=0,IF('A. History Input & Output'!I13=0,0,1),'A. History Input & Output'!I13/'A. History Input & Output'!G13-1) -> 19.698353 | H11: =IF('A. History Input & Output'!I13=0,IF('A. History Input & Output'!K13=0,0,1),'A. History Input & Output'!K13/'A. History Input & Output'!I13-1) -> -0.73015586 | J11: =IF('A. History Input & Output'!K13=0,IF('A. History Input & Output'!M13=0,0,1),'A. History Input & Output'!M13/'A. History Input & Output'!K13-1) -> -0.90619137 | L11: =IF('A. History Input & Output'!M13=0,IF('A. History Input & Output'!O13=0,0,1),'A. History Input & Output'!O13/'A. History Input & Output'!M13-1) -> 107.57143 | N11: =(IF(F11=0,0,IF('A. History Input & Output'!E13=0,"0",POWER('A. History Input & Output'!M13/'A. History Input & Output'!E13,1/4))))-1 -> -0.13493845 | P11: =(IF(F11=0,0,IF('A. History Input & Output'!E13=0,"0",POWER('A. History Input & Output'!O13/'A. History Input & Output'!E13,1/5))))-1 -> 1.273949
B12: Total Direct Support | D12: =IF('A. History Input & Output'!E14=0,IF('A. History Input & Output'!G14=0,0,1),'A. History Input & Output'!G14/'A. History Input & Output'!E14-1) -> -0.061912785 | F12: =IF('A. History Input & Output'!G14=0,IF('A. History Input & Output'!I14=0,0,1),'A. History Input & Output'!I14/'A. History Input & Output'!G14-1) -> 0.08037142 | H12: =IF('A. History Input & Output'!I14=0,IF('A. History Input & Output'!K14=0,0,1),'A. History Input & Output'!K14/'A. History Input & Output'!I14-1) -> 0.00084731826 | J12: =IF('A. History Input & Output'!K14=0,IF('A. History Input & Output'!M14=0,0,1),'A. History Input & Output'!M14/'A. History Input & Output'!K14-1) -> -0.18283365 | L12: =IF('A. History Input & Output'!M14=0,IF('A. History Input & Output'!O14=0,0,1),'A. History Input & Output'!O14/'A. History Input & Output'!M14-1) -> -0.11501137 | N12: =(IF(F12=0,0,IF('A. History Input & Output'!E14=0,"0",POWER('A. History Input & Output'!M14/'A. History Input & Output'!E14,1/4))))-1 -> -0.045834626 | P12: =(IF(F12=0,0,IF('A. History Input & Output'!E14=0,"0",POWER('A. History Input & Output'!O14/'A. History Input & Output'!E14,1/5))))-1 -> -0.060089588
